BEGIN:VCALENDAR
VERSION:2.0
PRODID:-//Ondernemend Ammerzoden - ECPv6.15.20//NONSGML v1.0//EN
CALSCALE:GREGORIAN
METHOD:PUBLISH
X-ORIGINAL-URL:https://www.ondernemendammerzoden.nl
X-WR-CALDESC:Evenementen voor Ondernemend Ammerzoden
REFRESH-INTERVAL;VALUE=DURATION:PT1H
X-Robots-Tag:noindex
X-PUBLISHED-TTL:PT1H
BEGIN:VTIMEZONE
TZID:Europe/Amsterdam
BEGIN:DAYLIGHT
TZOFFSETFROM:+0100
TZOFFSETTO:+0200
TZNAME:CEST
DTSTART:20240331T010000
END:DAYLIGHT
BEGIN:STANDARD
TZOFFSETFROM:+0200
TZOFFSETTO:+0100
TZNAME:CET
DTSTART:20241027T010000
END:STANDARD
BEGIN:DAYLIGHT
TZOFFSETFROM:+0100
TZOFFSETTO:+0200
TZNAME:CEST
DTSTART:20250330T010000
END:DAYLIGHT
BEGIN:STANDARD
TZOFFSETFROM:+0200
TZOFFSETTO:+0100
TZNAME:CET
DTSTART:20251026T010000
END:STANDARD
BEGIN:DAYLIGHT
TZOFFSETFROM:+0100
TZOFFSETTO:+0200
TZNAME:CEST
DTSTART:20260329T010000
END:DAYLIGHT
BEGIN:STANDARD
TZOFFSETFROM:+0200
TZOFFSETTO:+0100
TZNAME:CET
DTSTART:20261025T010000
END:STANDARD
END:VTIMEZONE
BEGIN:VEVENT
DTSTART;TZID=Europe/Amsterdam:20251120T180000
DTEND;TZID=Europe/Amsterdam:20251120T230000
DTSTAMP:20260424T163200
CREATED:20250519T132208Z
LAST-MODIFIED:20250519T132208Z
UID:11927-1763661600-1763679600@www.ondernemendammerzoden.nl
SUMMARY:Stamppotavond & bedrijsbezoek De Schans B.V.
DESCRIPTION:
URL:https://www.ondernemendammerzoden.nl/activiteit/stamppotavond-bedrijsbezoek-de-schans-b-v/
LOCATION:De Schans BV\, Drielseweg 46A\, Hedel\, 5321 NC
END:VEVENT
END:VCALENDAR