BEGIN:VCALENDAR
VERSION:2.0
PRODID:-//Ondernemend Ammerzoden - ECPv6.15.20//NONSGML v1.0//EN
CALSCALE:GREGORIAN
METHOD:PUBLISH
X-ORIGINAL-URL:https://www.ondernemendammerzoden.nl
X-WR-CALDESC:Evenementen voor Ondernemend Ammerzoden
REFRESH-INTERVAL;VALUE=DURATION:PT1H
X-Robots-Tag:noindex
X-PUBLISHED-TTL:PT1H
BEGIN:VTIMEZONE
TZID:Europe/Amsterdam
BEGIN:DAYLIGHT
TZOFFSETFROM:+0100
TZOFFSETTO:+0200
TZNAME:CEST
DTSTART:20240331T010000
END:DAYLIGHT
BEGIN:STANDARD
TZOFFSETFROM:+0200
TZOFFSETTO:+0100
TZNAME:CET
DTSTART:20241027T010000
END:STANDARD
BEGIN:DAYLIGHT
TZOFFSETFROM:+0100
TZOFFSETTO:+0200
TZNAME:CEST
DTSTART:20250330T010000
END:DAYLIGHT
BEGIN:STANDARD
TZOFFSETFROM:+0200
TZOFFSETTO:+0100
TZNAME:CET
DTSTART:20251026T010000
END:STANDARD
BEGIN:DAYLIGHT
TZOFFSETFROM:+0100
TZOFFSETTO:+0200
TZNAME:CEST
DTSTART:20260329T010000
END:DAYLIGHT
BEGIN:STANDARD
TZOFFSETFROM:+0200
TZOFFSETTO:+0100
TZNAME:CET
DTSTART:20261025T010000
END:STANDARD
BEGIN:DAYLIGHT
TZOFFSETFROM:+0100
TZOFFSETTO:+0200
TZNAME:CEST
DTSTART:20270328T010000
END:DAYLIGHT
BEGIN:STANDARD
TZOFFSETFROM:+0200
TZOFFSETTO:+0100
TZNAME:CET
DTSTART:20271031T010000
END:STANDARD
END:VTIMEZONE
BEGIN:VEVENT
DTSTART;TZID=Europe/Amsterdam:20250822T190000
DTEND;TZID=Europe/Amsterdam:20250822T230000
DTSTAMP:20260425T171838
CREATED:20250519T131733Z
LAST-MODIFIED:20250519T131733Z
UID:11921-1755889200-1755903600@www.ondernemendammerzoden.nl
SUMMARY:Sail 2025 i.s.m. O.V.M.
DESCRIPTION:in het kader van kennismaking/onderlinge samenwerking met Ondernemers Vereniging Maasdriel is er een mogelijkheid om Sail Amsterdam 2025 te bezoeken.\nDit vindt plaats op vrijdag 22-8 van 19.00 – 23.00 de kosten zijn €160\,- p.p. \nOpgeven kan op de website zo lang er plek is; https://www.ovmmaasdriel.nl/sail2025/
URL:https://www.ondernemendammerzoden.nl/activiteit/sail-2025-i-s-m-o-v-m/
LOCATION:Sail Amsterdam
END:VEVENT
BEGIN:VEVENT
DTSTART;TZID=Europe/Amsterdam:20251120T180000
DTEND;TZID=Europe/Amsterdam:20251120T230000
DTSTAMP:20260425T171838
CREATED:20250519T132208Z
LAST-MODIFIED:20250519T132208Z
UID:11927-1763661600-1763679600@www.ondernemendammerzoden.nl
SUMMARY:Stamppotavond & bedrijsbezoek De Schans B.V.
DESCRIPTION:
URL:https://www.ondernemendammerzoden.nl/activiteit/stamppotavond-bedrijsbezoek-de-schans-b-v/
LOCATION:De Schans BV\, Drielseweg 46A\, Hedel\, 5321 NC
END:VEVENT
BEGIN:VEVENT
DTSTART;TZID=Europe/Amsterdam:20260625T180000
DTEND;TZID=Europe/Amsterdam:20260625T223000
DTSTAMP:20260425T171838
CREATED:20260415T145135Z
LAST-MODIFIED:20260415T145135Z
UID:11980-1782410400-1782426600@www.ondernemendammerzoden.nl
SUMMARY:Bedrijfsbezoek Laurent fleur
DESCRIPTION:
URL:https://www.ondernemendammerzoden.nl/activiteit/bedrijfsbezoek-laurent-fleur/
LOCATION:Laurent Fleur\, Wellsesteegje 8\, Ammerzoden
END:VEVENT
BEGIN:VEVENT
DTSTART;TZID=Europe/Amsterdam:20261119T180000
DTEND;TZID=Europe/Amsterdam:20261119T180000
DTSTAMP:20260425T171838
CREATED:20260415T145406Z
LAST-MODIFIED:20260415T145406Z
UID:11983-1795111200-1795111200@www.ondernemendammerzoden.nl
SUMMARY:Bedrijfsbezoek M@tchmakers en Goesten & Opdam
DESCRIPTION:
URL:https://www.ondernemendammerzoden.nl/activiteit/bedrijfsbezoek-mtchmakers-en-goesten-opdam/
LOCATION:M@tchmakers\, Wichard van Pontlaan 86\, 5302 XC\, Zaltbommel
END:VEVENT
END:VCALENDAR